BEGIN:VCALENDAR
PRODID:-//eluceo/ical//2.0/EN
VERSION:2.0
CALSCALE:GREGORIAN
BEGIN:VEVENT
UID:3c892c29f12b83fda2b9e22ffa8c11b3
DTSTAMP:20260420T033533Z
SUMMARY:Fortbildung Multiple Sklerose - aus ambulanter Sicht
URL:https://www.slaek.de/de/ueber-uns/organisation/03kreisaerztekammern/che
 mnitz-stadt/veranstaltungen/MS-ambulant.php?sid=63ac6d31-9f97-458d-b487-eb
 3224fc9083
DTSTART:20260526T190000
DTEND:20260526T235959
LOCATION:Online\, \, 
END:VEVENT
END:VCALENDAR
