BEGIN:VCALENDAR
PRODID:-//eluceo/ical//2.0/EN
VERSION:2.0
CALSCALE:GREGORIAN
BEGIN:VEVENT
UID:e3a4835962207f22406939b438e0ae23
DTSTAMP:20260422T105752Z
SUMMARY:Fortbildung Multiple Sklerose - aus stationärer Sicht
URL:https://www.slaek.de/de/ueber-uns/organisation/03kreisaerztekammern/che
 mnitz-stadt/veranstaltungen/MS-stationaer.php?sid=63ac6d31-9f97-458d-b487-
 eb3224fc9083
DTSTART:20260623T190000
DTEND:20260623T235959
LOCATION:Online\, \, 
END:VEVENT
END:VCALENDAR
